BEGIN:VCALENDAR
VERSION:2.0
PRODID:-//金岸法界 - ECPv6.15.13//NONSGML v1.0//EN
CALSCALE:GREGORIAN
METHOD:PUBLISH
X-ORIGINAL-URL:https://gcdrchinese.com
X-WR-CALDESC:金岸法界的活动
REFRESH-INTERVAL;VALUE=DURATION:PT1H
X-Robots-Tag:noindex
X-PUBLISHED-TTL:PT1H
BEGIN:VTIMEZONE
TZID:Australia/Melbourne
BEGIN:STANDARD
TZOFFSETFROM:+1100
TZOFFSETTO:+1000
TZNAME:AEST
DTSTART:20210403T160000
END:STANDARD
BEGIN:DAYLIGHT
TZOFFSETFROM:+1000
TZOFFSETTO:+1100
TZNAME:AEDT
DTSTART:20211002T160000
END:DAYLIGHT
BEGIN:STANDARD
TZOFFSETFROM:+1100
TZOFFSETTO:+1000
TZNAME:AEST
DTSTART:20220402T160000
END:STANDARD
BEGIN:DAYLIGHT
TZOFFSETFROM:+1000
TZOFFSETTO:+1100
TZNAME:AEDT
DTSTART:20221001T160000
END:DAYLIGHT
BEGIN:STANDARD
TZOFFSETFROM:+1100
TZOFFSETTO:+1000
TZNAME:AEST
DTSTART:20230401T160000
END:STANDARD
BEGIN:DAYLIGHT
TZOFFSETFROM:+1000
TZOFFSETTO:+1100
TZNAME:AEDT
DTSTART:20230930T160000
END:DAYLIGHT
END:VTIMEZONE
BEGIN:VTIMEZONE
TZID:UTC
BEGIN:STANDARD
TZOFFSETFROM:+0000
TZOFFSETTO:+0000
TZNAME:UTC
DTSTART:20210101T000000
END:STANDARD
END:VTIMEZONE
BEGIN:VEVENT
DTSTART;TZID=Australia/Melbourne:20220930T190000
DTEND;TZID=Australia/Melbourne:20220930T203000
DTSTAMP:20260419T201943
CREATED:20220905T090923Z
LAST-MODIFIED:20220905T122157Z
UID:7494-1664564400-1664569800@gcdrchinese.com
SUMMARY:觀音法會（中文｜在線）
DESCRIPTION:恭誦普門品及觀音菩薩勝號 （中文） \nzoom ID: 127598942
URL:https://gcdrchinese.com/event/%e8%a7%80%e9%9f%b3%e6%b3%95%e6%9c%83%ef%bc%88%e4%b8%ad%e6%96%87%ef%bc%89-6/
ATTACH;FMTTYPE=image/jpeg:https://gcdrchinese.com/wp-content/uploads/2022/07/Picture3.jpg
END:VEVENT
BEGIN:VEVENT
DTSTART;TZID=Australia/Melbourne:20220930T133000
DTEND;TZID=Australia/Melbourne:20220930T153000
DTSTAMP:20260419T201943
CREATED:20220905T093000Z
LAST-MODIFIED:20220905T121315Z
UID:7519-1664544600-1664551800@gcdrchinese.com
SUMMARY:觀音法會（中文）
DESCRIPTION:恭誦普門品及觀音菩薩勝號以及往生堂回向 （中文）
URL:https://gcdrchinese.com/event/%e8%a7%80%e9%9f%b3%e6%b3%95%e6%9c%83%ef%bc%88%e4%b8%ad%e6%96%87%ef%bc%89-9/
ATTACH;FMTTYPE=image/jpeg:https://gcdrchinese.com/wp-content/uploads/2022/07/Picture3.jpg
END:VEVENT
BEGIN:VEVENT
DTSTART;TZID=Australia/Melbourne:20220929T190000
DTEND;TZID=Australia/Melbourne:20220929T203000
DTSTAMP:20260419T201943
CREATED:20220905T090839Z
LAST-MODIFIED:20220905T122144Z
UID:7492-1664478000-1664483400@gcdrchinese.com
SUMMARY:觀音法會（英文｜在線）
DESCRIPTION:恭誦普門品及觀音菩薩勝號 （英文） \nzoom ID: 127598942
URL:https://gcdrchinese.com/event/%e8%a7%80%e9%9f%b3%e6%b3%95%e6%9c%83%ef%bc%88%e8%8b%b1%e6%96%87%ef%bc%89-5/
ATTACH;FMTTYPE=image/jpeg:https://gcdrchinese.com/wp-content/uploads/2022/07/Picture3.jpg
END:VEVENT
BEGIN:VEVENT
DTSTART;TZID=Australia/Melbourne:20220929T133000
DTEND;TZID=Australia/Melbourne:20220929T153000
DTSTAMP:20260419T201943
CREATED:20220905T092852Z
LAST-MODIFIED:20220905T121240Z
UID:7517-1664458200-1664465400@gcdrchinese.com
SUMMARY:觀音法會（中文）
DESCRIPTION:恭誦普門品及觀音菩薩勝號以及往生堂回向（中文）
URL:https://gcdrchinese.com/event/%e8%a7%80%e9%9f%b3%e6%b3%95%e6%9c%83%ef%bc%88%e4%b8%ad%e6%96%87%ef%bc%89-8/
ATTACH;FMTTYPE=image/jpeg:https://gcdrchinese.com/wp-content/uploads/2022/07/Picture3.jpg
END:VEVENT
BEGIN:VEVENT
DTSTART;TZID=Australia/Melbourne:20220928T190000
DTEND;TZID=Australia/Melbourne:20220928T203000
DTSTAMP:20260419T201943
CREATED:20220905T090809Z
LAST-MODIFIED:20220905T122127Z
UID:7490-1664391600-1664397000@gcdrchinese.com
SUMMARY:觀音法會（中文｜在線）
DESCRIPTION:恭誦普門品及觀音菩薩勝號 （中文） \nzoom ID: 127598942
URL:https://gcdrchinese.com/event/%e8%a7%80%e9%9f%b3%e6%b3%95%e6%9c%83%ef%bc%88%e4%b8%ad%e6%96%87%ef%bc%89-4/
ATTACH;FMTTYPE=image/jpeg:https://gcdrchinese.com/wp-content/uploads/2022/07/Picture3.jpg
END:VEVENT
BEGIN:VEVENT
DTSTART;TZID=Australia/Melbourne:20220928T133000
DTEND;TZID=Australia/Melbourne:20220928T153000
DTSTAMP:20260419T201943
CREATED:20220905T092707Z
LAST-MODIFIED:20220905T121209Z
UID:7512-1664371800-1664379000@gcdrchinese.com
SUMMARY:觀音法會（中文）
DESCRIPTION:恭誦普門品及觀音菩薩勝號以及往生堂回向 （中文）
URL:https://gcdrchinese.com/event/%e8%a7%80%e9%9f%b3%e6%b3%95%e6%9c%83%ef%bc%88%e4%b8%ad%e6%96%87%ef%bc%89-7/
ATTACH;FMTTYPE=image/jpeg:https://gcdrchinese.com/wp-content/uploads/2022/07/Picture3.jpg
END:VEVENT
BEGIN:VEVENT
DTSTART;TZID=Australia/Melbourne:20220927T190000
DTEND;TZID=Australia/Melbourne:20220927T203000
DTSTAMP:20260419T201943
CREATED:20220905T090727Z
LAST-MODIFIED:20220905T122105Z
UID:7488-1664305200-1664310600@gcdrchinese.com
SUMMARY:觀音法會（英文｜在線）
DESCRIPTION:恭誦普門品及觀音菩薩勝號 （英文） \nzoom ID: 127598942
URL:https://gcdrchinese.com/event/%e8%a7%80%e9%9f%b3%e6%b3%95%e6%9c%83%ef%bc%88%e8%8b%b1%e6%96%87%ef%bc%89-3/
ATTACH;FMTTYPE=image/jpeg:https://gcdrchinese.com/wp-content/uploads/2022/07/Picture3.jpg
END:VEVENT
BEGIN:VEVENT
DTSTART;TZID=Australia/Melbourne:20220927T133000
DTEND;TZID=Australia/Melbourne:20220927T153000
DTSTAMP:20260419T201943
CREATED:20220905T092527Z
LAST-MODIFIED:20220905T121126Z
UID:7509-1664285400-1664292600@gcdrchinese.com
SUMMARY:觀音法會（中文）
DESCRIPTION:恭誦普門品及觀音菩薩勝號以及往生堂回向（中文）
URL:https://gcdrchinese.com/event/%e8%a7%80%e9%9f%b3%e6%b3%95%e6%9c%83%ef%bc%88%e4%b8%ad%e6%96%87%ef%bc%89-5/
ATTACH;FMTTYPE=image/jpeg:https://gcdrchinese.com/wp-content/uploads/2022/07/Picture3.jpg
END:VEVENT
BEGIN:VEVENT
DTSTART;TZID=Australia/Melbourne:20220926T190000
DTEND;TZID=Australia/Melbourne:20220926T203000
DTSTAMP:20260419T201943
CREATED:20220905T090644Z
LAST-MODIFIED:20220905T122042Z
UID:7486-1664218800-1664224200@gcdrchinese.com
SUMMARY:觀音法會（中文｜在線）
DESCRIPTION:恭誦普門品及觀音菩薩勝號 （中文） \nzoom ID: 127598942
URL:https://gcdrchinese.com/event/%e8%a7%80%e9%9f%b3%e6%b3%95%e6%9c%83%ef%bc%88%e4%b8%ad%e6%96%87%ef%bc%89-2/
ATTACH;FMTTYPE=image/jpeg:https://gcdrchinese.com/wp-content/uploads/2022/07/Picture3.jpg
END:VEVENT
BEGIN:VEVENT
DTSTART;TZID=Australia/Melbourne:20220926T133000
DTEND;TZID=Australia/Melbourne:20220926T153000
DTSTAMP:20260419T201943
CREATED:20220905T092340Z
LAST-MODIFIED:20220905T121100Z
UID:7505-1664199000-1664206200@gcdrchinese.com
SUMMARY:觀音法會（中文）
DESCRIPTION:恭誦普門品及觀音菩薩勝號以及往生堂回向 （中文 ）
URL:https://gcdrchinese.com/event/%e8%a7%80%e9%9f%b3%e6%b3%95%e6%9c%83%ef%bc%88%e4%b8%ad%e6%96%87%ef%bc%89-3/
ATTACH;FMTTYPE=image/jpeg:https://gcdrchinese.com/wp-content/uploads/2022/07/Picture3.jpg
END:VEVENT
BEGIN:VEVENT
DTSTART;TZID=Australia/Melbourne:20220925T133000
DTEND;TZID=Australia/Melbourne:20220925T153000
DTSTAMP:20260419T201943
CREATED:20220905T091947Z
LAST-MODIFIED:20220905T121920Z
UID:7502-1664112600-1664119800@gcdrchinese.com
SUMMARY:觀音法會（英文｜在線）
DESCRIPTION:恭誦普門品及觀音菩薩勝號 （英文） \nzoom ID: 8686878888 \n法會期間可設牌位
URL:https://gcdrchinese.com/event/%e8%a7%80%e9%9f%b3%e6%b3%95%e6%9c%83%ef%bc%88%e8%8b%b1%e6%96%87%ef%bc%89-2/
ATTACH;FMTTYPE=image/jpeg:https://gcdrchinese.com/wp-content/uploads/2022/07/Picture3.jpg
END:VEVENT
BEGIN:VEVENT
DTSTART;TZID=Australia/Melbourne:20220925T083000
DTEND;TZID=Australia/Melbourne:20220925T103000
DTSTAMP:20260419T201943
CREATED:20220905T090524Z
LAST-MODIFIED:20220905T121913Z
UID:7483-1664094600-1664101800@gcdrchinese.com
SUMMARY:觀音法會（中文｜在線）
DESCRIPTION:恭誦普門品及觀音菩薩勝號 （中文） \nzoom ID: 127598942
URL:https://gcdrchinese.com/event/%e8%a7%80%e9%9f%b3%e6%b3%95%e6%9c%83%ef%bc%88%e4%b8%ad%e6%96%87%ef%bc%89/
ATTACH;FMTTYPE=image/jpeg:https://gcdrchinese.com/wp-content/uploads/2022/07/Picture3.jpg
END:VEVENT
BEGIN:VEVENT
DTSTART;TZID=Australia/Melbourne:20220925T000000
DTEND;TZID=Australia/Melbourne:20220925T143000
DTSTAMP:20260419T201943
CREATED:20220824T220250Z
LAST-MODIFIED:20220824T220250Z
UID:7347-1664064000-1664116200@gcdrchinese.com
SUMMARY:大方廣佛華嚴經(在線)
DESCRIPTION:【講者】: 上恆下實法師\, Ph.D. Professor of Dharma Realm Buddhist University – DRBU\n【地點】: 澳洲金岸法界楞嚴聖寺 (宣公上人道場)\n【時間】: 澳洲時間(12:30-14:00 週日); 亞洲時間(10:30-12:00 週日) 開始 (*聆聽中文同步翻譯 請上ZOOM. ID 會議代碼：127598942.​)\nYouTube Live: https://www.youtube.com/watch?v=8QEO5mvsZS4
URL:https://gcdrchinese.com/event/%e5%a4%a7%e6%96%b9%e5%bb%a3%e4%bd%9b%e8%8f%af%e5%9a%b4%e7%b6%93%e5%9c%a8%e7%b7%9a-4/
ATTACH;FMTTYPE=image/jpeg:https://gcdrchinese.com/wp-content/uploads/2022/08/20220803-214144.jpeg
END:VEVENT
BEGIN:VEVENT
DTSTART;TZID=Australia/Melbourne:20220924T190000
DTEND;TZID=Australia/Melbourne:20220924T203000
DTSTAMP:20260419T201943
CREATED:20220905T091732Z
LAST-MODIFIED:20220905T121859Z
UID:7500-1664046000-1664051400@gcdrchinese.com
SUMMARY:恆實法師講法 （在線）
DESCRIPTION:觀音法會恆實法師講法 \nzoom ID: 127598942
URL:https://gcdrchinese.com/event/%e6%81%86%e5%af%a6%e6%b3%95%e5%b8%ab%e8%ac%9b%e6%b3%95/
ATTACH;FMTTYPE=image/jpeg:https://gcdrchinese.com/wp-content/uploads/2022/08/20220803-214144.jpeg
END:VEVENT
BEGIN:VEVENT
DTSTART;TZID=Australia/Melbourne:20220924T133000
DTEND;TZID=Australia/Melbourne:20220924T153000
DTSTAMP:20260419T201943
CREATED:20220905T091206Z
LAST-MODIFIED:20220905T121845Z
UID:7498-1664026200-1664033400@gcdrchinese.com
SUMMARY:觀音法會（英文｜在線）
DESCRIPTION:恭誦普門品及觀音菩薩勝號以及往生堂回向（英文） \nzoom ID: 127598942
URL:https://gcdrchinese.com/event/%e8%a7%80%e9%9f%b3%e6%b3%95%e6%9c%83%ef%bc%88%e8%8b%b1%e6%96%87%ef%bc%89/
ATTACH;FMTTYPE=image/jpeg:https://gcdrchinese.com/wp-content/uploads/2022/07/Picture3.jpg
END:VEVENT
BEGIN:VEVENT
DTSTART;TZID=UTC:20220924T083000
DTEND;TZID=UTC:20220930T203000
DTSTAMP:20260419T201943
CREATED:20220704T160921Z
LAST-MODIFIED:20220718T212329Z
UID:6719-1664008200-1664569800@gcdrchinese.com
SUMMARY:觀音七
DESCRIPTION:2022年9月24 – 30日，金岸法界將舉辦觀音七，恭誦妙法蓮華經觀世音菩薩普門品，禮大悲懺，稱念觀世音菩薩聖號。歡迎參加，共襄盛舉。 \n「念觀世音菩薩，也是一種無為法，無為而無不為。這種無為法，就是叫你不要打妄想。你念「南無觀世音菩薩」，觀世音菩薩也念你，彼此互念。就好像你想你的親戚，你的親戚也想念你。我們和觀世音菩薩，從無量劫以來，就是法眷屬，法親戚。從什麼地方說起呢？從阿彌陀佛那兒論起。阿彌陀佛是西方極樂世界的教主，是觀音菩薩的師父。觀世音菩薩是幫助阿彌陀佛弘揚凈土法門的助手。」-宣化上人 \n觀世音菩薩他在過去是行無緣大慈同體大悲；因為行無緣大慈，所以人人和他有緣。他看見一切眾生的痛苦等於自己的痛苦一樣，所以有同體大悲；他有同體大悲，無緣大慈，故種下這種無盡無邊的緣和悲心。他和我們每一個眾生都有不可分的精神，也可以說觀世音菩薩，處處為人著想，沒有自私心、自利心，沒有絲毫只管自己的心，他是為利益一切眾生而修行，因此一切眾生和觀世音菩薩特別有緣。 \n–宣化上人 \n「若我當來。堪能利益安樂一切眾生者。令我即時身生千手千眼具足。發是願已。應時身上千手千眼悉皆具足。十方大地。六種震動。十方千佛。悉放光明。照觸我身。及照十方無邊世界。」 \n— 《千手千眼觀世音菩薩廣大圓滿無礙大悲心陀羅尼經》 \n預定
URL:https://gcdrchinese.com/event/%e8%a7%80%e9%9f%b3%e4%b8%83/
ATTACH;FMTTYPE=image/jpeg:https://gcdrchinese.com/wp-content/uploads/2022/07/Picture3.jpg
END:VEVENT
BEGIN:VEVENT
DTSTART;TZID=Australia/Melbourne:20220924T083000
DTEND;TZID=Australia/Melbourne:20220924T103000
DTSTAMP:20260419T201943
CREATED:20220905T090358Z
LAST-MODIFIED:20220905T121823Z
UID:7481-1664008200-1664015400@gcdrchinese.com
SUMMARY:觀音法會（中文｜在線）
DESCRIPTION:恭誦普門品及觀音菩薩勝號 （中文） \nzoom ID: 127598942
URL:https://gcdrchinese.com/event/%e8%a7%80%e9%9f%b3%e6%b3%95%e6%9c%83/
ATTACH;FMTTYPE=image/jpeg:https://gcdrchinese.com/wp-content/uploads/2022/07/Picture3.jpg
END:VEVENT
BEGIN:VEVENT
DTSTART;TZID=Australia/Melbourne:20220918T000000
DTEND;TZID=Australia/Melbourne:20220918T143000
DTSTAMP:20260419T201943
CREATED:20220824T220222Z
LAST-MODIFIED:20220824T220222Z
UID:7345-1663459200-1663511400@gcdrchinese.com
SUMMARY:大方廣佛華嚴經(在線)
DESCRIPTION:【講者】: 上恆下實法師\, Ph.D. Professor of Dharma Realm Buddhist University – DRBU\n【地點】: 澳洲金岸法界楞嚴聖寺 (宣公上人道場)\n【時間】: 澳洲時間(12:30-14:00 週日); 亞洲時間(10:30-12:00 週日) 開始 (*聆聽中文同步翻譯 請上ZOOM. ID 會議代碼：127598942.​)\nYouTube Live: https://www.youtube.com/watch?v=8QEO5mvsZS4
URL:https://gcdrchinese.com/event/%e5%a4%a7%e6%96%b9%e5%bb%a3%e4%bd%9b%e8%8f%af%e5%9a%b4%e7%b6%93%e5%9c%a8%e7%b7%9a-3/
ATTACH;FMTTYPE=image/jpeg:https://gcdrchinese.com/wp-content/uploads/2022/08/20220803-214144.jpeg
END:VEVENT
BEGIN:VEVENT
DTSTART;TZID=Australia/Melbourne:20220912T190000
DTEND;TZID=Australia/Melbourne:20220912T203000
DTSTAMP:20260419T201943
CREATED:20220912T133018Z
LAST-MODIFIED:20220912T133125Z
UID:7648-1663009200-1663014600@gcdrchinese.com
SUMMARY:誦念大悲咒迴向雪山寺附近野火熄滅（在線）
DESCRIPTION:共修通知\n美國野火肆虐，已經侵襲到雪山寺附近，請參加今晚（7-8:30pm澳洲時間， 5-6:30pm 北京/马来西亚時間）誦念大悲咒，以此功德迴向野火熄滅，災難消除。\n\n\nThe wildfires in the United States are raging and have already getting closer the vicinity of Snow Mountain Monastery. Please participate in the recitation of the Great Compassion Mantra tonight (7-8:30pm Gold Coast Australia/ 5-6:30pm Beijing & Malaysian time) to dedicate the merit to the wildfire extinguished and the disaster eliminated.\n\n\n\nZOOM ID 會議代碼：127598942
URL:https://gcdrchinese.com/event/%e8%aa%a6%e5%bf%b5%e5%a4%a7%e6%82%b2%e5%92%92%e8%bf%b4%e5%90%91%e9%9b%aa%e5%b1%b1%e5%af%ba%e9%99%84%e8%bf%91%e9%87%8e%e7%81%ab%e7%86%84%e6%bb%85%ef%bc%88%e5%9c%a8%e7%b7%9a%ef%bc%89/
ATTACH;FMTTYPE=image/jpeg:https://gcdrchinese.com/wp-content/uploads/2022/07/Picture3.jpg
END:VEVENT
BEGIN:VEVENT
DTSTART;TZID=Australia/Melbourne:20220911T000000
DTEND;TZID=Australia/Melbourne:20220911T143000
DTSTAMP:20260419T201943
CREATED:20220824T220152Z
LAST-MODIFIED:20220824T220152Z
UID:7343-1662854400-1662906600@gcdrchinese.com
SUMMARY:大方廣佛華嚴經(在線)
DESCRIPTION:【講者】: 上恆下實法師\, Ph.D. Professor of Dharma Realm Buddhist University – DRBU\n【地點】: 澳洲金岸法界楞嚴聖寺 (宣公上人道場)\n【時間】: 澳洲時間(12:30-14:00 週日); 亞洲時間(10:30-12:00 週日) 開始 (*聆聽中文同步翻譯 請上ZOOM. ID 會議代碼：127598942.​)\nYouTube Live: https://www.youtube.com/watch?v=8QEO5mvsZS4
URL:https://gcdrchinese.com/event/%e5%a4%a7%e6%96%b9%e5%bb%a3%e4%bd%9b%e8%8f%af%e5%9a%b4%e7%b6%93%e5%9c%a8%e7%b7%9a-2/
ATTACH;FMTTYPE=image/jpeg:https://gcdrchinese.com/wp-content/uploads/2022/08/20220803-214144.jpeg
END:VEVENT
BEGIN:VEVENT
DTSTART;TZID=Australia/Melbourne:20220904T000000
DTEND;TZID=Australia/Melbourne:20220904T143000
DTSTAMP:20260419T201943
CREATED:20220824T220043Z
LAST-MODIFIED:20220824T220043Z
UID:7341-1662249600-1662301800@gcdrchinese.com
SUMMARY:大方廣佛華嚴經(在線)
DESCRIPTION:【講者】: 上恆下實法師\, Ph.D. Professor of Dharma Realm Buddhist University – DRBU\n【地點】: 澳洲金岸法界楞嚴聖寺 (宣公上人道場)\n【時間】: 澳洲時間(12:30-14:00 週日); 亞洲時間(10:30-12:00 週日) 開始 (*聆聽中文同步翻譯 請上ZOOM. ID 會議代碼：127598942.​)\nYouTube Live: https://www.youtube.com/watch?v=8QEO5mvsZS4
URL:https://gcdrchinese.com/event/%e5%a4%a7%e6%96%b9%e5%bb%a3%e4%bd%9b%e8%8f%af%e5%9a%b4%e7%b6%93%e5%9c%a8%e7%b7%9a/
ATTACH;FMTTYPE=image/jpeg:https://gcdrchinese.com/wp-content/uploads/2022/08/20220803-214144.jpeg
END:VEVENT
BEGIN:VEVENT
DTSTART;TZID=Australia/Melbourne:20220828T000000
DTEND;TZID=Australia/Melbourne:20220828T143000
DTSTAMP:20260419T201943
CREATED:20220803T214248Z
LAST-MODIFIED:20220824T215947Z
UID:7155-1661644800-1661697000@gcdrchinese.com
SUMMARY:大方廣佛華嚴經(在線)
DESCRIPTION:【講者】: 上恆下實法師\, Ph.D. Professor of Dharma Realm Buddhist University – DRBU\n【地點】: 澳洲金岸法界楞嚴聖寺 (宣公上人道場)\n【時間】: 澳洲時間(12:30-14:00 週日); 亞洲時間(10:30-12:00 週日) 開始 (*聆聽中文同步翻譯 請上ZOOM. ID 會議代碼：127598942.​)\nYouTube Live: https://www.youtube.com/watch?v=8QEO5mvsZS4
URL:https://gcdrchinese.com/event/%e5%a4%a7%e6%96%b9%e5%bb%a3%e4%bd%9b%e8%8f%af%e5%9a%b4%e7%b6%93%e9%9b%b2%e7%ab%af/
ATTACH;FMTTYPE=image/jpeg:https://gcdrchinese.com/wp-content/uploads/2022/08/20220803-214144.jpeg
END:VEVENT
BEGIN:VEVENT
DTSTART;TZID=UTC:20220806T083000
DTEND;TZID=UTC:20220806T100000
DTSTAMP:20260419T201943
CREATED:20220704T160741Z
LAST-MODIFIED:20220720T132405Z
UID:6717-1659774600-1659780000@gcdrchinese.com
SUMMARY:慶祝孟蘭盆節法會
DESCRIPTION:七月十五日，是佛教的重要節日「盂蘭盆節」。每年到這個日子，佛教徒都會到廟上超薦祖先及齋僧。「盂蘭」二字是梵語，譯成中文為「解倒懸」，「盆」則是指擺設物品的器具。因此顧名思義，「盂蘭盆」的意義，即是將飲食用具，擺在盆中供養三寶，仰仗佛法僧力，幫助在地獄餓鬼受苦的眾生，解除如同倒懸一樣的痛苦。 \n按《佛說盂蘭盆經》說，虔誠供養，蒙三寶功德之力，不但能使現世父母增福壽，亦使七世父母離苦得樂。因此佛教徒都會把握這個時機，在這一天里廣做佛事，供養三寶，利益現在過去的父母祖先。 \n2022年8月6日，金岸法界將於上午8點30分在楞嚴聖寺大殿舉辦盂蘭盆法會，恭誦《盂蘭盆經》，歡迎參加。 \n「每年到農曆七月十五這一天，在佛教里每個寺廟都有這盂蘭法會，我們都可以為過去七世父母來作功德，超度他們。這一天供養三寶的功德，比平時大百千萬倍。所以你們每一個人若覺得自己脾氣很大、無明火太重，這就可以知道：你的過去父母祖先沒有離苦得樂；他們幫著你發脾氣，叫你造罪業，好快一點和他在一起。你有這種感覺，你就應該在這個時候來給他們作功德。」 \n–宣化上人 \n善男子！若比丘比丘尼、國王太子、大臣宰相、三公百官、萬民庶人，行慈孝者，皆應先為所生現在父母、過去七世父母，於七月十五日，佛歡喜日，僧自恣日，以百味飯食，安盂蘭盆中，施十方自恣僧，願使現在父母，壽命百年無病、無一切苦惱之患，乃至七世父母離惡鬼苦，生人天中，福樂無極。 \n–《佛說盂蘭盆經》 \n預定
URL:https://gcdrchinese.com/event/%e6%85%b6%e7%a5%9d%e5%ad%9f%e8%98%ad%e7%9b%86%e7%af%80%e6%b3%95%e6%9c%83/
ATTACH;FMTTYPE=image/png:https://gcdrchinese.com/wp-content/uploads/2022/07/4.png
END:VEVENT
BEGIN:VEVENT
DTSTART;TZID=UTC:20220723T083000
DTEND;TZID=UTC:20220826T203000
DTSTAMP:20260419T201943
CREATED:20220704T155850Z
LAST-MODIFIED:20220720T132115Z
UID:6715-1658565000-1661545800@gcdrchinese.com
SUMMARY:恭誦地藏經100部（每日3部）
DESCRIPTION:“何謂地藏菩薩？這位菩薩，猶如大地，含藏萬物。一切萬物，得地而生，依地而長。無論那種有情和無情的眾生，都不能離開大地而生存。由此可知，我們一呼一吸、一舉一動、一言一行，時時刻刻都在地藏菩薩法身中生存著。不過，我們自己不知道而已。 \n我們打地藏七，要學習地藏菩薩救眾生的精神。他在往昔時，曾經發過十八大願，願願度眾生出離苦海，得到快樂，他說：「地獄不空，誓不成佛。」又說：「眾生度盡，方證菩提。」又說：「我不入地獄，誰入地獄。」這種大願，多麼偉大！諸位應當效法菩薩捨己救人的精神，地藏菩薩如今仍在地獄中為受苦的眾生說法。“ \n–宣化上人 \n複次，虛空藏菩薩！若現在未來，天龍鬼神，聞地藏名，禮地藏形，或聞地藏本願事行，讚歎瞻禮，得七種利益： \n一者，速超聖地；二者，惡業消滅； \n三者，諸佛護臨；四者，菩提不退； \n五者，增長本力；六者，宿命皆通； \n七者，畢竟成佛。」 \n–地藏菩薩本願經 \n預定
URL:https://gcdrchinese.com/event/%e6%81%ad%e8%aa%a6%e5%9c%b0%e8%97%8f%e7%b6%93100%e9%83%a8%ef%bc%88%e6%af%8f%e6%97%a53%e9%83%a8%ef%bc%89/
ATTACH;FMTTYPE=image/jpeg:https://gcdrchinese.com/wp-content/uploads/2022/07/Picture2.jpg
END:VEVENT
BEGIN:VEVENT
DTSTART;TZID=UTC:20220604T083000
DTEND;TZID=UTC:20220622T153000
DTSTAMP:20260419T201943
CREATED:20220704T155640Z
LAST-MODIFIED:20220718T212443Z
UID:6713-1654331400-1655911800@gcdrchinese.com
SUMMARY:恭誦81卷華嚴經法會
DESCRIPTION:拜願，授三皈五戒 \n預定
URL:https://gcdrchinese.com/event/%e6%81%ad%e8%aa%a681%e5%8d%b7%e8%8f%af%e5%9a%b4%e7%b6%93%e6%b3%95%e6%9c%83/
ATTACH;FMTTYPE=image/jpeg:https://gcdrchinese.com/wp-content/uploads/2019/06/19.jpg
END:VEVENT
BEGIN:VEVENT
DTSTART;TZID=UTC:20220508T083000
DTEND;TZID=UTC:20220508T100000
DTSTAMP:20260419T201943
CREATED:20220704T155413Z
LAST-MODIFIED:20220718T212506Z
UID:6711-1651998600-1652004000@gcdrchinese.com
SUMMARY:慶祝釋迦摩尼佛聖誕法會
DESCRIPTION:拜願，授三皈五戒 \n預定
URL:https://gcdrchinese.com/event/%e6%85%b6%e7%a5%9d%e9%87%8b%e8%bf%a6%e6%91%a9%e5%b0%bc%e4%bd%9b%e8%81%96%e8%aa%95%e6%b3%95%e6%9c%83/
ATTACH;FMTTYPE=image/jpeg:https://gcdrchinese.com/wp-content/uploads/2019/06/19.jpg
END:VEVENT
BEGIN:VEVENT
DTSTART;TZID=UTC:20220417T080000
DTEND;TZID=UTC:20220417T160000
DTSTAMP:20260419T201943
CREATED:20220704T155241Z
LAST-MODIFIED:20220718T212527Z
UID:6709-1650182400-1650211200@gcdrchinese.com
SUMMARY:禮拜慈悲三昧水懺
DESCRIPTION:拜願，授三皈五戒 \n預定
URL:https://gcdrchinese.com/event/%e7%a6%ae%e6%8b%9c%e6%85%88%e6%82%b2%e4%b8%89%e6%98%a7%e6%b0%b4%e6%87%ba/
ATTACH;FMTTYPE=image/jpeg:https://gcdrchinese.com/wp-content/uploads/2019/06/19.jpg
END:VEVENT
BEGIN:VEVENT
DTSTART;TZID=UTC:20220416T080000
DTEND;TZID=UTC:20220416T150000
DTSTAMP:20260419T201943
CREATED:20220704T153853Z
LAST-MODIFIED:20220718T212135Z
UID:6703-1650096000-1650121200@gcdrchinese.com
SUMMARY:安放舍利
DESCRIPTION:拜願，授三皈五戒 \n預定
URL:https://gcdrchinese.com/event/%e5%ae%89%e6%94%be%e8%88%8d%e5%88%a9-2/
ATTACH;FMTTYPE=image/jpeg:https://gcdrchinese.com/wp-content/uploads/2019/06/19.jpg
END:VEVENT
END:VCALENDAR