BEGIN:VCALENDAR
VERSION:2.0
PRODID:-//金岸法界 - ECPv6.15.13//NONSGML v1.0//EN
CALSCALE:GREGORIAN
METHOD:PUBLISH
X-ORIGINAL-URL:https://gcdrchinese.com
X-WR-CALDESC:金岸法界的活动
REFRESH-INTERVAL;VALUE=DURATION:PT1H
X-Robots-Tag:noindex
X-PUBLISHED-TTL:PT1H
BEGIN:VTIMEZONE
TZID:Australia/Melbourne
BEGIN:STANDARD
TZOFFSETFROM:+1100
TZOFFSETTO:+1000
TZNAME:AEST
DTSTART:20210403T160000
END:STANDARD
BEGIN:DAYLIGHT
TZOFFSETFROM:+1000
TZOFFSETTO:+1100
TZNAME:AEDT
DTSTART:20211002T160000
END:DAYLIGHT
BEGIN:STANDARD
TZOFFSETFROM:+1100
TZOFFSETTO:+1000
TZNAME:AEST
DTSTART:20220402T160000
END:STANDARD
BEGIN:DAYLIGHT
TZOFFSETFROM:+1000
TZOFFSETTO:+1100
TZNAME:AEDT
DTSTART:20221001T160000
END:DAYLIGHT
BEGIN:STANDARD
TZOFFSETFROM:+1100
TZOFFSETTO:+1000
TZNAME:AEST
DTSTART:20230401T160000
END:STANDARD
BEGIN:DAYLIGHT
TZOFFSETFROM:+1000
TZOFFSETTO:+1100
TZNAME:AEDT
DTSTART:20230930T160000
END:DAYLIGHT
BEGIN:STANDARD
TZOFFSETFROM:+1100
TZOFFSETTO:+1000
TZNAME:AEST
DTSTART:20240406T160000
END:STANDARD
BEGIN:DAYLIGHT
TZOFFSETFROM:+1000
TZOFFSETTO:+1100
TZNAME:AEDT
DTSTART:20241005T160000
END:DAYLIGHT
END:VTIMEZONE
BEGIN:VTIMEZONE
TZID:UTC
BEGIN:STANDARD
TZOFFSETFROM:+0000
TZOFFSETTO:+0000
TZNAME:UTC
DTSTART:20210101T000000
END:STANDARD
END:VTIMEZONE
BEGIN:VEVENT
DTSTART;TZID=Australia/Melbourne:20231029T083000
DTEND;TZID=Australia/Melbourne:20231104T200000
DTSTAMP:20260419T172257
CREATED:20231011T223518Z
LAST-MODIFIED:20231011T223518Z
UID:10242-1698568200-1699128000@gcdrchinese.com
SUMMARY:观音七法会
DESCRIPTION:
URL:https://gcdrchinese.com/event/%e8%a7%82%e9%9f%b3%e4%b8%83%e6%b3%95%e4%bc%9a/
END:VEVENT
BEGIN:VEVENT
DTSTART;TZID=Australia/Melbourne:20231003T080000
DTEND;TZID=Australia/Melbourne:20231009T203000
DTSTAMP:20260419T172257
CREATED:20230910T233355Z
LAST-MODIFIED:20231011T130825Z
UID:10161-1696320000-1696883400@gcdrchinese.com
SUMMARY:楞嚴咒法會
DESCRIPTION:
URL:https://gcdrchinese.com/event/%e6%a5%9e%e4%b8%a5%e5%92%92%e6%b3%95%e4%bc%9a/
ATTACH;FMTTYPE=image/jpeg:https://gcdrchinese.com/wp-content/uploads/2023/09/pic1.jpg
END:VEVENT
BEGIN:VEVENT
DTSTART;TZID=Australia/Melbourne:20230929T080000
DTEND;TZID=Australia/Melbourne:20231001T203000
DTSTAMP:20260419T172257
CREATED:20230910T233217Z
LAST-MODIFIED:20230910T234949Z
UID:10159-1695974400-1696192200@gcdrchinese.com
SUMMARY:千佛懺法會
DESCRIPTION:
URL:https://gcdrchinese.com/event/%e5%8d%83%e4%bd%9b%e5%bf%8f%e6%b3%95%e4%bc%9a/
ATTACH;FMTTYPE=image/jpeg:https://gcdrchinese.com/wp-content/uploads/2023/09/ceremony-3.jpg
END:VEVENT
BEGIN:VEVENT
DTSTART;TZID=Australia/Melbourne:20230819T070000
DTEND;TZID=Australia/Melbourne:20230904T203000
DTSTAMP:20260419T172257
CREATED:20230721T105006Z
LAST-MODIFIED:20230721T105523Z
UID:9997-1692428400-1693859400@gcdrchinese.com
SUMMARY:啟建49部《地藏菩薩本願經》共修法會
DESCRIPTION:每週六，週日&每日傍晚直播時段\nZOOM ID 會議代碼:127598942
URL:https://gcdrchinese.com/event/%e5%95%9f%e5%bb%ba49%e9%83%a8%e3%80%8a%e5%9c%b0%e8%97%8f%e8%8f%a9%e8%96%a9%e6%9c%ac%e9%a1%98%e7%b6%93%e3%80%8b%e5%85%b1%e4%bf%ae%e6%b3%95%e6%9c%83/
ATTACH;FMTTYPE=image/jpeg:https://gcdrchinese.com/wp-content/uploads/2023/07/2023-dz.jpg
END:VEVENT
BEGIN:VEVENT
DTSTART;TZID=Australia/Melbourne:20230812T060000
DTEND;TZID=Australia/Melbourne:20230812T070000
DTSTAMP:20260419T172257
CREATED:20230811T100928Z
LAST-MODIFIED:20230811T121040Z
UID:10076-1691820000-1691823600@gcdrchinese.com
SUMMARY:虚云老和尚画传
DESCRIPTION:新课通知：            虚云老和尚画传\n\nSpeakers 主法：   Rev. Heng Sure 恒实法师\n\n亚洲时间                每周六，早上4:00 – 5:00\nCalifornia Time      1:00 – 2:00pm Every Friday\n\n\n报名邮箱：            sixthpatriarchsutra@gmail.com\n Google Form :            https://forms.gle/Txcg9YqY4x8jyX4B8\n\n\n*报名请注明姓名和所在地。\n*此课为证道歌课程的延续，同一时间，同一方式。已经报名证道歌的师兄不必重复报名，按时参加即可。\n\n**本周六为第一堂课。
URL:https://gcdrchinese.com/event/%e8%99%9a%e4%ba%91%e8%80%81%e5%92%8c%e5%b0%9a%e7%94%bb%e4%bc%a0/
ATTACH;FMTTYPE=image/jpeg:https://gcdrchinese.com/wp-content/uploads/2023/08/0809_工作區域-1-e1691713427288.jpg
END:VEVENT
BEGIN:VEVENT
DTSTART;TZID=UTC:20230727T130000
DTEND;TZID=UTC:20230727T170000
DTSTAMP:20260419T172257
CREATED:20230327T220228Z
LAST-MODIFIED:20230327T220228Z
UID:9713-1690462800-1690477200@gcdrchinese.com
SUMMARY:澳洲金岸法界楞嚴聖寺將於 2023 年 5 月 27 日傳授三皈五戒
DESCRIPTION:時間:2023年5月27日下午1:00 (請在當天下午提早15分鐘報到) \n收件截止日期:2023 年 5 月 20 日 報名方式:請準備好下列三項: \n1. 填妥之報名表 (請務必填寫聯絡電話及 email) \n2. 兩張照片 \n3. AUD $100. \n備註:A. 報名表可向金岸法界楞嚴聖寺辦公室/電郵 gcdr.australia@gmail.com 索取。 報名表亦可自行印出填寫 \nB. 基於場地空間考量，名額有限，請儘早報名。 ——————————————————- \nGCDR is going to transmit 3 refuges & 5 precepts on May. 27\, 2023 (Saturday). The registration information is as below. \n– Date: May 27\, 2023 at 1:00pm\n(Please arrive 15 minutes earlier on the actual day) \n– Last day for accepting applications: May 20\, 2023\n– How to register:\nGCDR must receive (in person or by email) the following three items. \n(1) A completed application form (contact phone number and email address must be provided) \n(2) Two Photos \n(3) AUD$100 \nMailing address: \n106 Bonogin Road\, Bonogin 4213 \, Queensland Australia \n* Application forms can be obtained at GCDR office/email: gcdr.australia@gmail.com ** \n\n\n\n\nPlease apply as soon as possible due to limited space of the site. Feel free to print out the \n\n\n\n\nform yourself.
URL:https://gcdrchinese.com/event/%e6%be%b3%e6%b4%b2%e9%87%91%e5%b2%b8%e6%b3%95%e7%95%8c%e6%a5%9e%e5%9a%b4%e8%81%96%e5%af%ba%e5%b0%87%e6%96%bc-2023-%e5%b9%b4-5-%e6%9c%88-27-%e6%97%a5%e5%82%b3%e6%8e%88%e4%b8%89%e7%9a%88%e4%ba%94/
ATTACH;FMTTYPE=image/jpeg:https://gcdrchinese.com/wp-content/uploads/2023/03/2023-3-Refuge-and-5-Precept-notice-and-form-v3-1.jpg
END:VEVENT
BEGIN:VEVENT
DTSTART;TZID=UTC:20230311T050000
DTEND;TZID=UTC:20230312T150000
DTSTAMP:20260419T172257
CREATED:20230221T232700Z
LAST-MODIFIED:20230310T222556Z
UID:9491-1678510800-1678633200@gcdrchinese.com
SUMMARY:二日禅修
DESCRIPTION:「我們為什麼要念消災吉祥神咒？為令全世界人類消弭災難，都得到吉祥。這個法會，大而無外，沒有一個眾生能超出這個法會之外。無論信佛或不信佛，無論是善人或是惡人;我們都為他們迴向，令其離苦得樂。我們做這種法會，不求任何代價，只是盡修道人的本分，也可以說盡天職，應當為一切眾生求安樂。如果不認真做，那就失去真正的意義了。所以要至誠懇切的念，感動佛菩薩大發慈悲心，憐愍我們眾生，將災難減輕。或者將大的災難化為小的災難，將小災難化為烏有。這是我們盡了一分力量，為全人類祈禱，消災吉祥。這是有價值的事！「 \n—宣化上人 \n  \n曩謨。三滿多。毋馱喃。阿缽啰底。賀多舍。娑曩喃。怛侄他。唵。怯怯。怯四。怯四。吽吽。入瓦啰。入瓦啰。缽啰入瓦啰。缽啰入瓦啰。底瑟奼。底瑟奼。瑟致哩。瑟致哩。娑癹吒。娑癹吒。扇底迦。室哩曳。娑瓦訶。 \n—消災吉祥神咒 \n			預定
URL:https://gcdrchinese.com/event/%e4%ba%8c%e6%97%a5%e7%a6%85%e4%bf%ae/
ATTACH;FMTTYPE=image/jpeg:https://gcdrchinese.com/wp-content/uploads/2023/02/88.jpg
END:VEVENT
BEGIN:VEVENT
DTSTART;TZID=UTC:20230121T190000
DTEND;TZID=UTC:20230122T153000
DTSTAMP:20260419T172257
CREATED:20230111T222338Z
LAST-MODIFIED:20230116T194828Z
UID:8761-1674327600-1674401400@gcdrchinese.com
SUMMARY:農曆新春藥師祈福消災法會
DESCRIPTION:「我們為什麼要念消災吉祥神咒？為令全世界人類消弭災難，都得到吉祥。這個法會，大而無外，沒有一個眾生能超出這個法會之外。無論信佛或不信佛，無論是善人或是惡人;我們都為他們迴向，令其離苦得樂。我們做這種法會，不求任何代價，只是盡修道人的本分，也可以說盡天職，應當為一切眾生求安樂。如果不認真做，那就失去真正的意義了。所以要至誠懇切的念，感動佛菩薩大發慈悲心，憐愍我們眾生，將災難減輕。或者將大的災難化為小的災難，將小災難化為烏有。這是我們盡了一分力量，為全人類祈禱，消災吉祥。這是有價值的事！「 \n—宣化上人 \n  \n曩謨。三滿多。毋馱喃。阿缽啰底。賀多舍。娑曩喃。怛侄他。唵。怯怯。怯四。怯四。吽吽。入瓦啰。入瓦啰。缽啰入瓦啰。缽啰入瓦啰。底瑟奼。底瑟奼。瑟致哩。瑟致哩。娑癹吒。娑癹吒。扇底迦。室哩曳。娑瓦訶。 \n—消災吉祥神咒 \n預定
URL:https://gcdrchinese.com/event/%e8%be%b2%e6%9b%86%e6%96%b0%e6%98%a5%e8%97%a5%e5%b8%ab%e7%a5%88%e7%a6%8f%e6%b6%88%e7%82%8e%e6%b3%95%e6%9c%83/
ATTACH;FMTTYPE=image/jpeg:https://gcdrchinese.com/wp-content/uploads/2023/01/1.jpg
END:VEVENT
BEGIN:VEVENT
DTSTART;TZID=UTC:20230101T080000
DTEND;TZID=UTC:20230101T220000
DTSTAMP:20260419T172257
CREATED:20220704T230501Z
LAST-MODIFIED:20221222T123805Z
UID:6728-1672560000-1672610400@gcdrchinese.com
SUMMARY:新年吉祥咒法會
DESCRIPTION:「我們為什麼要念消災吉祥神咒？為令全世界人類消弭災難，都得到吉祥。這個法會，大而無外，沒有一個眾生能超出這個法會之外。無論信佛或不信佛，無論是善人或是惡人;我們都為他們迴向，令其離苦得樂。我們做這種法會，不求任何代價，只是盡修道人的本分，也可以說盡天職，應當為一切眾生求安樂。如果不認真做，那就失去真正的意義了。所以要至誠懇切的念，感動佛菩薩大發慈悲心，憐愍我們眾生，將災難減輕。或者將大的災難化為小的災難，將小災難化為烏有。這是我們盡了一分力量，為全人類祈禱，消災吉祥。這是有價值的事！「 \n—宣化上人 \n  \n曩謨。三滿多。毋馱喃。阿缽啰底。賀多舍。娑曩喃。怛侄他。唵。怯怯。怯四。怯四。吽吽。入瓦啰。入瓦啰。缽啰入瓦啰。缽啰入瓦啰。底瑟奼。底瑟奼。瑟致哩。瑟致哩。娑癹吒。娑癹吒。扇底迦。室哩曳。娑瓦訶。 \n—消災吉祥神咒 \n預定
URL:https://gcdrchinese.com/event/%e6%96%b0%e5%b9%b4%e5%90%89%e7%a5%a5%e5%92%92%e6%b3%95%e6%9c%83/
ATTACH;FMTTYPE=image/jpeg:https://gcdrchinese.com/wp-content/uploads/2022/07/WeChat-Image_20221222123353.jpg
END:VEVENT
BEGIN:VEVENT
DTSTART;TZID=UTC:20221225T083000
DTEND;TZID=UTC:20221231T203000
DTSTAMP:20260419T172257
CREATED:20220704T230355Z
LAST-MODIFIED:20221222T124157Z
UID:6726-1671957000-1672518600@gcdrchinese.com
SUMMARY:彌陀七
DESCRIPTION:2022年12月25 – 31日，金岸法界將舉辦彌陀七，恭誦《佛說阿彌陀經》，稱念阿彌陀佛聖號。歡迎參加，共襄盛舉。 \n阿彌陀佛萬法王 五時八教盡含藏 \n行人但能專持誦 必至寂光不動場 \n阿彌陀佛在因地的時候，他作法藏比丘，他的法名叫法藏，他發了四十八大願。每一願，他都這麼說：「我將來修行成佛的時候，我的國家是極樂的，清淨的，沒有像五濁惡世這麼樣地渾濁。我要十方所有的眾生，只要有人唸我的名號，我就接他來到我的國家，來成佛；如果他不成佛，我也不取正覺，我也不成佛。因為阿彌陀佛有這個願力，所以我們現在大家異口同音，稱唸南無阿彌陀佛。 \n這是本著阿彌陀佛他往昔的願力，就是照著他的願力來修行；我們這一唸佛，阿彌陀佛就知道了：「哎！我以前和這個眾生簽一個合同，他要唸我的名字，我就應該叫他成佛。如果我現在不接他成佛，我這個合同是打妄語了。」所以佛趕快來接你去成佛。 \n–宣化上人 \n「設我得佛，十方眾生，至心信樂，欲生我國，乃至十念，若不生者，不取正覺。唯除五逆，誹謗正法。」 \n— 阿彌陀佛第十八大願 \n預定
URL:https://gcdrchinese.com/event/%e5%bd%8c%e9%99%80%e4%b8%83/
ATTACH;FMTTYPE=image/jpeg:https://gcdrchinese.com/wp-content/uploads/2022/07/WeChat-Image_20221222124122.jpg
END:VEVENT
BEGIN:VEVENT
DTSTART;TZID=UTC:20221126T133000
DTEND;TZID=UTC:20221202T203000
DTSTAMP:20260419T172257
CREATED:20220704T230239Z
LAST-MODIFIED:20221115T185700Z
UID:6724-1669469400-1670013000@gcdrchinese.com
SUMMARY:楞嚴七
DESCRIPTION:《楞嚴咒》出自《大佛頂首楞嚴經》，亦稱《大佛頂首楞嚴神咒》和《佛頂大白傘蓋陀羅尼》。咒語屬於佛教中的密法，三密相應，感应道交，不可思议。楞嚴咒是佛教中最長的咒，亦被稱為咒中之王，是漢傳佛教僧侶早課必誦的功課。楞嚴聖寺即是由此而得名。 \n \n奧妙無窮實難猜 金剛密語本性來 \n楞嚴咒里有靈妙 五眼六通道凡開 \n〈楞嚴咒〉是全體大用的，所以說是包括佛教所有的教義。若能明白〈楞嚴咒〉，就能將佛教秘密精華都明白！天地間的奧妙、天地間不可思議的事情，也是在〈楞嚴咒〉內。若會〈楞嚴咒〉，則不必學密宗，白教、黑教、黃教、紅教，什麼教也不需要學。這是根本的三昧法，最究竟的法。 \n那麼念會楞嚴咒要希望什麼呢？要希望究竟作佛，得到無上正等正覺。不要境界那麼小，實際上學楞嚴咒就是佛的化身；不但是佛的化身，還是佛的頂上化佛，化佛中的化佛，所以楞嚴咒的妙處是不可思議的。有人真能持楞嚴咒，在這個地方，虛空裡頭就有一個大白傘蓋。你的功夫若大、若高，你一念這個傘蓋，甚至於幾千里地以內，都無災無難了；你功夫若小，那麼這個傘蓋在你自己的頭上，也保護著你。 \n–宣化上人 \n \n阿難當知，是咒常有八萬四千那由他恆河沙俱胝金剛藏王菩薩種族，一一皆有諸金剛眾而為眷屬，晝夜隨侍。設有眾生，於散亂心，非三摩地，心憶口持；是金剛王常隨從彼諸善男子，何況決定菩提心者？此諸金剛菩薩藏王，精心陰速，發彼神識，是人應時，心能記憶八萬四千恆河沙劫，周遍了知，得無疑惑。 \n《大佛頂首楞嚴經》 \n \n直播時間： 7am-8am\, 1.30pm-3pm\, 6.30pm-8.30pm \n			預定
URL:https://gcdrchinese.com/event/%e6%a5%9e%e5%9a%b4%e4%b8%83/
ATTACH;FMTTYPE=image/jpeg:https://gcdrchinese.com/wp-content/uploads/2022/07/Picture1.jpg
END:VEVENT
BEGIN:VEVENT
DTSTART;TZID=Australia/Melbourne:20221106T000000
DTEND;TZID=Australia/Melbourne:20221106T143000
DTSTAMP:20260419T172257
CREATED:20220824T220629Z
LAST-MODIFIED:20220824T220629Z
UID:7359-1667692800-1667745000@gcdrchinese.com
SUMMARY:大方廣佛華嚴經(在線)
DESCRIPTION:【講者】: 上恆下實法師\, Ph.D. Professor of Dharma Realm Buddhist University – DRBU\n【地點】: 澳洲金岸法界楞嚴聖寺 (宣公上人道場)\n【時間】: 澳洲時間(12:30-14:00 週日); 亞洲時間(10:30-12:00 週日) 開始 (*聆聽中文同步翻譯 請上ZOOM. ID 會議代碼：127598942.​)\nYouTube Live: https://www.youtube.com/watch?v=8QEO5mvsZS4
URL:https://gcdrchinese.com/event/%e5%a4%a7%e6%96%b9%e5%bb%a3%e4%bd%9b%e8%8f%af%e5%9a%b4%e7%b6%93%e5%9c%a8%e7%b7%9a-10/
ATTACH;FMTTYPE=image/jpeg:https://gcdrchinese.com/wp-content/uploads/2022/08/20220803-214144.jpeg
END:VEVENT
BEGIN:VEVENT
DTSTART;VALUE=DATE:20221030
DTEND;VALUE=DATE:20221107
DTSTAMP:20260419T172257
CREATED:20221023T210039Z
LAST-MODIFIED:20221101T222358Z
UID:8055-1667088000-1667779199@gcdrchinese.com
SUMMARY:梁皇寶懺法會
DESCRIPTION:Dharma Talk Series： Four Clear Instructions on Purity\n–by Dharma Master JinYong \n澳洲金岸法界梁皇寳懺晚間講法通知\n《四種清净明誨》—近永法師 \n澳洲昆士蘭當地時間 30/10 -6/11 每晚 7:00 – 8:30 pm\,\n亞洲時間\, 30/10 -6/11\, 每晚 5:00 – 6:30 pm，中英雙語。 \n人身難得，正法難聞。承蒙法師慈悲，梁皇寳懺期間，為大衆講解楞嚴經四種清净明誨和梁皇寳懺相關問題，觀機逗教，開疑解惑。 \n大家可以點擊以下鏈接，通過以下表單登記自己想要提問的問題。\nhttps://forms.office.com/r/v3yQdwAzFD \nZoom link 連結：ZOOM Meeting ID:127598942\nhttps://drba-org.zoom.us/j/127598942 \nLive stream on YouTube 直播: Gold Coast Dharma Realm Channel https://www.youtube.com/channel/UCLPAX1ehGG67tc655xVYy3Q/featured \nGold Coast Dharma Realm (GCDR) will be hosting Repentance Ritual of the Emperor of Liang from 30/10 Sunday to 6/11 Sunday. During the session\, Dharma Master Jin Yong has compassionately agreed to give Dharma talks on the “Four Clear Instructions on Purity”. Q&A session will be also available during the talks. \nFeel free to submit your questions here https://forms.office.com/r/v3yQdwAzFD . Only questions related to “Four Clear Instructions on Purity” and “Repentance Ritual of the Emperor Liang” will be attended. Questions will be collected at 12pm daily during the 8-Day session. \n梁皇寶懺是南朝梁武帝為皇后郗氏所集的。緣起是皇后郗氏在往生後的數月，有一天梁武帝正要就寢時，聽聞外面有騷亂的聲音，於是出去一看，竟然是一條大蟒蛇，而且睜大眼睛望著他。這時候武帝大驚不已，不知如何是好，便對蛇說：「朕的宮殿嚴警，不是你們蛇所生之地，看來你必定是妖孽。」蛇於是對武帝說：「我是你的皇后郗氏，妾因為生前喜歡爭寵，而常懷瞋心及嫉妒心，性情慘毒，損物害人，所以死後墮入蛇身。現在沒有飲食可吃，又沒有洞穴可以庇身，而且每一片鱗甲中有許多蟲在咬，真是痛苦萬分。由於深感皇帝平日對妾的厚愛，所以才敢顯現醜陋的形貌在您的面前，希望能祈求一些功德，脫離蟒蛇之身。」蛇說完之後就不見了。 \n武帝將這個情形告訴誌公禪師，禪師對梁武帝說：「必須要禮佛懺悔才能洗滌罪業。」武帝於是請誌公禪師搜尋佛經，摘錄佛的名號，並且依佛經來撰寫懺悔文，總共寫成十卷。然後武帝就依照懺本為皇后禮拜懺悔，有一日，突然聞到異香遍滿室內，久久不散。武帝抬起頭來，看見有一個人，容儀端麗，對他說：「我是蟒蛇的後身，因為承蒙皇帝為我作功德，所以現在已經超生忉利天，今天特來致謝。」言畢就不見了。 \n梁皇寶懺從梁朝流傳至今一千餘年，行人若能依此懺文虔誠禮拜、慚愧懺悔，並檢討改過，以慈悲、智慧的法水洗淨愆尤，必得佛陀慈光加被，業障消除，善根增長，身心清淨，平安吉祥。 \n  \n8.00AM-10.15AM 梁皇寶懺法會 \n1.00PM-3.30PM 梁皇寶懺法會 \n3.30PM-4.00PM 往生堂回向 \n7.00PM-8.20PM 近永法師講法 \n  \n 
URL:https://gcdrchinese.com/event/%e6%a2%81%e7%9a%87%e5%af%b6%e6%87%ba%e6%b3%95%e6%9c%83/
ATTACH;FMTTYPE=image/jpeg:https://gcdrchinese.com/wp-content/uploads/2022/10/WechatIMG497.jpeg
END:VEVENT
BEGIN:VEVENT
DTSTART;TZID=Australia/Melbourne:20221030T000000
DTEND;TZID=Australia/Melbourne:20221030T143000
DTSTAMP:20260419T172257
CREATED:20220824T220542Z
LAST-MODIFIED:20220824T220542Z
UID:7357-1667088000-1667140200@gcdrchinese.com
SUMMARY:大方廣佛華嚴經(在線)
DESCRIPTION:【講者】: 上恆下實法師\, Ph.D. Professor of Dharma Realm Buddhist University – DRBU\n【地點】: 澳洲金岸法界楞嚴聖寺 (宣公上人道場)\n【時間】: 澳洲時間(12:30-14:00 週日); 亞洲時間(10:30-12:00 週日) 開始 (*聆聽中文同步翻譯 請上ZOOM. ID 會議代碼：127598942.​)\nYouTube Live: https://www.youtube.com/watch?v=8QEO5mvsZS4
URL:https://gcdrchinese.com/event/%e5%a4%a7%e6%96%b9%e5%bb%a3%e4%bd%9b%e8%8f%af%e5%9a%b4%e7%b6%93%e5%9c%a8%e7%b7%9a-9/
ATTACH;FMTTYPE=image/jpeg:https://gcdrchinese.com/wp-content/uploads/2022/08/20220803-214144.jpeg
END:VEVENT
BEGIN:VEVENT
DTSTART;TZID=Australia/Melbourne:20221023T000000
DTEND;TZID=Australia/Melbourne:20221023T143000
DTSTAMP:20260419T172257
CREATED:20220824T220503Z
LAST-MODIFIED:20220824T220503Z
UID:7355-1666483200-1666535400@gcdrchinese.com
SUMMARY:大方廣佛華嚴經(在線)
DESCRIPTION:【講者】: 上恆下實法師\, Ph.D. Professor of Dharma Realm Buddhist University – DRBU\n【地點】: 澳洲金岸法界楞嚴聖寺 (宣公上人道場)\n【時間】: 澳洲時間(12:30-14:00 週日); 亞洲時間(10:30-12:00 週日) 開始 (*聆聽中文同步翻譯 請上ZOOM. ID 會議代碼：127598942.​)\nYouTube Live: https://www.youtube.com/watch?v=8QEO5mvsZS4
URL:https://gcdrchinese.com/event/%e5%a4%a7%e6%96%b9%e5%bb%a3%e4%bd%9b%e8%8f%af%e5%9a%b4%e7%b6%93%e5%9c%a8%e7%b7%9a-8/
ATTACH;FMTTYPE=image/jpeg:https://gcdrchinese.com/wp-content/uploads/2022/08/20220803-214144.jpeg
END:VEVENT
BEGIN:VEVENT
DTSTART;TZID=Australia/Melbourne:20221016T000000
DTEND;TZID=Australia/Melbourne:20221016T143000
DTSTAMP:20260419T172257
CREATED:20220824T220435Z
LAST-MODIFIED:20220824T220435Z
UID:7353-1665878400-1665930600@gcdrchinese.com
SUMMARY:大方廣佛華嚴經(在線)
DESCRIPTION:【講者】: 上恆下實法師\, Ph.D. Professor of Dharma Realm Buddhist University – DRBU\n【地點】: 澳洲金岸法界楞嚴聖寺 (宣公上人道場)\n【時間】: 澳洲時間(12:30-14:00 週日); 亞洲時間(10:30-12:00 週日) 開始 (*聆聽中文同步翻譯 請上ZOOM. ID 會議代碼：127598942.​)\nYouTube Live: https://www.youtube.com/watch?v=8QEO5mvsZS4
URL:https://gcdrchinese.com/event/%e5%a4%a7%e6%96%b9%e5%bb%a3%e4%bd%9b%e8%8f%af%e5%9a%b4%e7%b6%93%e5%9c%a8%e7%b7%9a-7/
ATTACH;FMTTYPE=image/jpeg:https://gcdrchinese.com/wp-content/uploads/2022/08/20220803-214144.jpeg
END:VEVENT
BEGIN:VEVENT
DTSTART;TZID=Australia/Melbourne:20221009T000000
DTEND;TZID=Australia/Melbourne:20221009T143000
DTSTAMP:20260419T172257
CREATED:20220824T220410Z
LAST-MODIFIED:20220824T220410Z
UID:7351-1665273600-1665325800@gcdrchinese.com
SUMMARY:大方廣佛華嚴經(在線)
DESCRIPTION:【講者】: 上恆下實法師\, Ph.D. Professor of Dharma Realm Buddhist University – DRBU\n【地點】: 澳洲金岸法界楞嚴聖寺 (宣公上人道場)\n【時間】: 澳洲時間(12:30-14:00 週日); 亞洲時間(10:30-12:00 週日) 開始 (*聆聽中文同步翻譯 請上ZOOM. ID 會議代碼：127598942.​)\nYouTube Live: https://www.youtube.com/watch?v=8QEO5mvsZS4
URL:https://gcdrchinese.com/event/%e5%a4%a7%e6%96%b9%e5%bb%a3%e4%bd%9b%e8%8f%af%e5%9a%b4%e7%b6%93%e5%9c%a8%e7%b7%9a-6/
ATTACH;FMTTYPE=image/jpeg:https://gcdrchinese.com/wp-content/uploads/2022/08/20220803-214144.jpeg
END:VEVENT
BEGIN:VEVENT
DTSTART;TZID=Australia/Melbourne:20221002T000000
DTEND;TZID=Australia/Melbourne:20221002T143000
DTSTAMP:20260419T172257
CREATED:20220824T220341Z
LAST-MODIFIED:20220824T220341Z
UID:7349-1664668800-1664721000@gcdrchinese.com
SUMMARY:大方廣佛華嚴經(在線)
DESCRIPTION:【講者】: 上恆下實法師\, Ph.D. Professor of Dharma Realm Buddhist University – DRBU\n【地點】: 澳洲金岸法界楞嚴聖寺 (宣公上人道場)\n【時間】: 澳洲時間(12:30-14:00 週日); 亞洲時間(10:30-12:00 週日) 開始 (*聆聽中文同步翻譯 請上ZOOM. ID 會議代碼：127598942.​)\nYouTube Live: https://www.youtube.com/watch?v=8QEO5mvsZS4
URL:https://gcdrchinese.com/event/%e5%a4%a7%e6%96%b9%e5%bb%a3%e4%bd%9b%e8%8f%af%e5%9a%b4%e7%b6%93%e5%9c%a8%e7%b7%9a-5/
ATTACH;FMTTYPE=image/jpeg:https://gcdrchinese.com/wp-content/uploads/2022/08/20220803-214144.jpeg
END:VEVENT
BEGIN:VEVENT
DTSTART;TZID=Australia/Melbourne:20220930T190000
DTEND;TZID=Australia/Melbourne:20220930T203000
DTSTAMP:20260419T172257
CREATED:20220905T090923Z
LAST-MODIFIED:20220905T122157Z
UID:7494-1664564400-1664569800@gcdrchinese.com
SUMMARY:觀音法會（中文｜在線）
DESCRIPTION:恭誦普門品及觀音菩薩勝號 （中文） \nzoom ID: 127598942
URL:https://gcdrchinese.com/event/%e8%a7%80%e9%9f%b3%e6%b3%95%e6%9c%83%ef%bc%88%e4%b8%ad%e6%96%87%ef%bc%89-6/
ATTACH;FMTTYPE=image/jpeg:https://gcdrchinese.com/wp-content/uploads/2022/07/Picture3.jpg
END:VEVENT
BEGIN:VEVENT
DTSTART;TZID=Australia/Melbourne:20220930T133000
DTEND;TZID=Australia/Melbourne:20220930T153000
DTSTAMP:20260419T172257
CREATED:20220905T093000Z
LAST-MODIFIED:20220905T121315Z
UID:7519-1664544600-1664551800@gcdrchinese.com
SUMMARY:觀音法會（中文）
DESCRIPTION:恭誦普門品及觀音菩薩勝號以及往生堂回向 （中文）
URL:https://gcdrchinese.com/event/%e8%a7%80%e9%9f%b3%e6%b3%95%e6%9c%83%ef%bc%88%e4%b8%ad%e6%96%87%ef%bc%89-9/
ATTACH;FMTTYPE=image/jpeg:https://gcdrchinese.com/wp-content/uploads/2022/07/Picture3.jpg
END:VEVENT
BEGIN:VEVENT
DTSTART;TZID=Australia/Melbourne:20220929T190000
DTEND;TZID=Australia/Melbourne:20220929T203000
DTSTAMP:20260419T172257
CREATED:20220905T090839Z
LAST-MODIFIED:20220905T122144Z
UID:7492-1664478000-1664483400@gcdrchinese.com
SUMMARY:觀音法會（英文｜在線）
DESCRIPTION:恭誦普門品及觀音菩薩勝號 （英文） \nzoom ID: 127598942
URL:https://gcdrchinese.com/event/%e8%a7%80%e9%9f%b3%e6%b3%95%e6%9c%83%ef%bc%88%e8%8b%b1%e6%96%87%ef%bc%89-5/
ATTACH;FMTTYPE=image/jpeg:https://gcdrchinese.com/wp-content/uploads/2022/07/Picture3.jpg
END:VEVENT
BEGIN:VEVENT
DTSTART;TZID=Australia/Melbourne:20220929T133000
DTEND;TZID=Australia/Melbourne:20220929T153000
DTSTAMP:20260419T172257
CREATED:20220905T092852Z
LAST-MODIFIED:20220905T121240Z
UID:7517-1664458200-1664465400@gcdrchinese.com
SUMMARY:觀音法會（中文）
DESCRIPTION:恭誦普門品及觀音菩薩勝號以及往生堂回向（中文）
URL:https://gcdrchinese.com/event/%e8%a7%80%e9%9f%b3%e6%b3%95%e6%9c%83%ef%bc%88%e4%b8%ad%e6%96%87%ef%bc%89-8/
ATTACH;FMTTYPE=image/jpeg:https://gcdrchinese.com/wp-content/uploads/2022/07/Picture3.jpg
END:VEVENT
BEGIN:VEVENT
DTSTART;TZID=Australia/Melbourne:20220928T190000
DTEND;TZID=Australia/Melbourne:20220928T203000
DTSTAMP:20260419T172257
CREATED:20220905T090809Z
LAST-MODIFIED:20220905T122127Z
UID:7490-1664391600-1664397000@gcdrchinese.com
SUMMARY:觀音法會（中文｜在線）
DESCRIPTION:恭誦普門品及觀音菩薩勝號 （中文） \nzoom ID: 127598942
URL:https://gcdrchinese.com/event/%e8%a7%80%e9%9f%b3%e6%b3%95%e6%9c%83%ef%bc%88%e4%b8%ad%e6%96%87%ef%bc%89-4/
ATTACH;FMTTYPE=image/jpeg:https://gcdrchinese.com/wp-content/uploads/2022/07/Picture3.jpg
END:VEVENT
BEGIN:VEVENT
DTSTART;TZID=Australia/Melbourne:20220928T133000
DTEND;TZID=Australia/Melbourne:20220928T153000
DTSTAMP:20260419T172257
CREATED:20220905T092707Z
LAST-MODIFIED:20220905T121209Z
UID:7512-1664371800-1664379000@gcdrchinese.com
SUMMARY:觀音法會（中文）
DESCRIPTION:恭誦普門品及觀音菩薩勝號以及往生堂回向 （中文）
URL:https://gcdrchinese.com/event/%e8%a7%80%e9%9f%b3%e6%b3%95%e6%9c%83%ef%bc%88%e4%b8%ad%e6%96%87%ef%bc%89-7/
ATTACH;FMTTYPE=image/jpeg:https://gcdrchinese.com/wp-content/uploads/2022/07/Picture3.jpg
END:VEVENT
BEGIN:VEVENT
DTSTART;TZID=Australia/Melbourne:20220927T190000
DTEND;TZID=Australia/Melbourne:20220927T203000
DTSTAMP:20260419T172257
CREATED:20220905T090727Z
LAST-MODIFIED:20220905T122105Z
UID:7488-1664305200-1664310600@gcdrchinese.com
SUMMARY:觀音法會（英文｜在線）
DESCRIPTION:恭誦普門品及觀音菩薩勝號 （英文） \nzoom ID: 127598942
URL:https://gcdrchinese.com/event/%e8%a7%80%e9%9f%b3%e6%b3%95%e6%9c%83%ef%bc%88%e8%8b%b1%e6%96%87%ef%bc%89-3/
ATTACH;FMTTYPE=image/jpeg:https://gcdrchinese.com/wp-content/uploads/2022/07/Picture3.jpg
END:VEVENT
BEGIN:VEVENT
DTSTART;TZID=Australia/Melbourne:20220927T133000
DTEND;TZID=Australia/Melbourne:20220927T153000
DTSTAMP:20260419T172257
CREATED:20220905T092527Z
LAST-MODIFIED:20220905T121126Z
UID:7509-1664285400-1664292600@gcdrchinese.com
SUMMARY:觀音法會（中文）
DESCRIPTION:恭誦普門品及觀音菩薩勝號以及往生堂回向（中文）
URL:https://gcdrchinese.com/event/%e8%a7%80%e9%9f%b3%e6%b3%95%e6%9c%83%ef%bc%88%e4%b8%ad%e6%96%87%ef%bc%89-5/
ATTACH;FMTTYPE=image/jpeg:https://gcdrchinese.com/wp-content/uploads/2022/07/Picture3.jpg
END:VEVENT
BEGIN:VEVENT
DTSTART;TZID=Australia/Melbourne:20220926T190000
DTEND;TZID=Australia/Melbourne:20220926T203000
DTSTAMP:20260419T172257
CREATED:20220905T090644Z
LAST-MODIFIED:20220905T122042Z
UID:7486-1664218800-1664224200@gcdrchinese.com
SUMMARY:觀音法會（中文｜在線）
DESCRIPTION:恭誦普門品及觀音菩薩勝號 （中文） \nzoom ID: 127598942
URL:https://gcdrchinese.com/event/%e8%a7%80%e9%9f%b3%e6%b3%95%e6%9c%83%ef%bc%88%e4%b8%ad%e6%96%87%ef%bc%89-2/
ATTACH;FMTTYPE=image/jpeg:https://gcdrchinese.com/wp-content/uploads/2022/07/Picture3.jpg
END:VEVENT
BEGIN:VEVENT
DTSTART;TZID=Australia/Melbourne:20220926T133000
DTEND;TZID=Australia/Melbourne:20220926T153000
DTSTAMP:20260419T172257
CREATED:20220905T092340Z
LAST-MODIFIED:20220905T121100Z
UID:7505-1664199000-1664206200@gcdrchinese.com
SUMMARY:觀音法會（中文）
DESCRIPTION:恭誦普門品及觀音菩薩勝號以及往生堂回向 （中文 ）
URL:https://gcdrchinese.com/event/%e8%a7%80%e9%9f%b3%e6%b3%95%e6%9c%83%ef%bc%88%e4%b8%ad%e6%96%87%ef%bc%89-3/
ATTACH;FMTTYPE=image/jpeg:https://gcdrchinese.com/wp-content/uploads/2022/07/Picture3.jpg
END:VEVENT
BEGIN:VEVENT
DTSTART;TZID=Australia/Melbourne:20220925T133000
DTEND;TZID=Australia/Melbourne:20220925T153000
DTSTAMP:20260419T172257
CREATED:20220905T091947Z
LAST-MODIFIED:20220905T121920Z
UID:7502-1664112600-1664119800@gcdrchinese.com
SUMMARY:觀音法會（英文｜在線）
DESCRIPTION:恭誦普門品及觀音菩薩勝號 （英文） \nzoom ID: 8686878888 \n法會期間可設牌位
URL:https://gcdrchinese.com/event/%e8%a7%80%e9%9f%b3%e6%b3%95%e6%9c%83%ef%bc%88%e8%8b%b1%e6%96%87%ef%bc%89-2/
ATTACH;FMTTYPE=image/jpeg:https://gcdrchinese.com/wp-content/uploads/2022/07/Picture3.jpg
END:VEVENT
BEGIN:VEVENT
DTSTART;TZID=Australia/Melbourne:20220925T083000
DTEND;TZID=Australia/Melbourne:20220925T103000
DTSTAMP:20260419T172257
CREATED:20220905T090524Z
LAST-MODIFIED:20220905T121913Z
UID:7483-1664094600-1664101800@gcdrchinese.com
SUMMARY:觀音法會（中文｜在線）
DESCRIPTION:恭誦普門品及觀音菩薩勝號 （中文） \nzoom ID: 127598942
URL:https://gcdrchinese.com/event/%e8%a7%80%e9%9f%b3%e6%b3%95%e6%9c%83%ef%bc%88%e4%b8%ad%e6%96%87%ef%bc%89/
ATTACH;FMTTYPE=image/jpeg:https://gcdrchinese.com/wp-content/uploads/2022/07/Picture3.jpg
END:VEVENT
END:VCALENDAR